Workbook

Sheet РЭУ № 1
A1: Тарифы по содержанию и ремонту (с НДС) до 31.12.2013г.
A2: РЭУ №-1 с разбивкой по категориям
I3: руб./кв.м.
A4: № п/п | B4: инв.№ | C4: Улица | D4: № дома | E4: Год постройки | F4: Содержание | G4: Ремонт | H4: Итого
A5: 1. Дома с лифтами и мусоропроводом.
A6: 1 | B6: 00000621 | C6: Мира | D6: 5 | E6: 1985 | F6: 10,38/16,81 | G6: =3.9*1.18 -> 4.602 | H6: 14,98/21,41 | I6: 275 от 07.12.2005г.
A7: =A6+1 -> 2 | B7: 00000606 | C7: Мира | D7: 7 корп. 1 | E7: 1983 | F7: 10,38/16,82 | G7: =3.9*1.18 -> 4.602 | H7: 14,98/21,42 | I7: 275 от 07.12.2005г.
A8: 2. Дома без лифтов с мусоропроводом.
A9: 3. Дома без лифтов и мусоропроводов.
A10: 3.1. Дома кирпичные до 1970 года постройки
A11: 1 | B11: 003905 | C11: 50 лет Октября | D11: 46 корп.1 | E11: 1973 | F11: =9.414*1.18 -> 11.10852 | G11: =3.95*1.18 -> 4.661 | H11: =F11+G11 -> 15.76952 | I11: 512-па от 10.09.2012
A12: 2 | B12: 003904 | C12: 50 лет Октября | D12: 46 корп. 2 | E12: 1973 | F12: =7.77*1.18 -> 9.1686 | G12: =3.9*1.18 -> 4.602 | H12: =F12+G12 -> 13.7706 | I12: 275 от 07.12.2005г.
A13: 3 | B13: 00000567 | C13: 50 лет Октября | D13: 50 корп.1 | E13: 1975 | F13: =7.77*1.18 -> 9.1686 | G13: =3.9*1.18 -> 4.602 | H13: =F13+G13 -> 13.7706 | I13: 275 от 07.12.2005г.
A14: 4 | B14: 003903 | C14: 50 лет Октября | D14: 50 корп.2 | E14: 1975 | F14: =9.414*1.18 -> 11.10852 | G14: =3.95*1.18 -> 4.661 | H14: =F14+G14 -> 15.76952 | I14: 512-па от 10.09.2012
A15: 3.2. Дома кирпичные с 1971 года постройки
A16: 1 | C16: Димитрова | D16: 8 | F16: =9.4*1.18 -> 11.092 | G16: =4.7*1.18 -> 5.546 | H16: =F16+G16 -> 16.638 | I16: по конкурсу
A17: 3.3. Дома панельные до 1970 года постройки
A18: 3.4. Дома панельные с 1971 года постройки 5-ти этажные
A19: 1 | B19: 00000566 | C19: 50 лет Октября | D19: 49 | E19: 1985 | F19: =7.77*1.18 -> 9.1686 | G19: =3.9*1.18 -> 4.602 | H19: =F19+G19 -> 13.7706 | I19: 275 от 07.12.2005г.
A20: =A19+1 -> 2 | B20: 00000571 | C20: Новая | D20: 36 | E20: 1972 | F20: =7.77*1.18 -> 9.1686 | G20: =3.9*1.18 -> 4.602 | H20: =F20+G20 -> 13.7706 | I20: 275 от 07.12.2005г.
A21: =A20+1 -> 3 | B21: 00000572 | C21: Новая | D21: 39 | E21: 1984 | F21: =9.414*1.18 -> 11.10852 | G21: =3.95*1.18 -> 4.661 | H21: =F21+G21 -> 15.76952 | I21: 512-па от 10.09.2012
A22: =A21+1 -> 4 | B22: 00000561 | C22: 3-ей Пятилетки | D22: 32 | E22: 1971 | F22: =7.77*1.18 -> 9.1686 | G22: =3.9*1.18 -> 4.602 | H22: =F22+G22 -> 13.7706 | I22: 275 от 07.12.2005г.
A23: =A22+1 -> 5 | B23: 00000603 | C23: 3-ей Пятилетки | D23: 34 | E23: 1972 | F23: =7.77*1.18 -> 9.1686 | G23: =3.9*1.18 -> 4.602 | H23: =F23+G23 -> 13.7706 | I23: 275 от 07.12.2005г.
A24: =A23+1 -> 6 | B24: 00000604 | C24: 3-ей Пятилетки | D24: 36 | E24: 1972 | F24: =7.77*1.18 -> 9.1686 | G24: =3.9*1.18 -> 4.602 | H24: =F24+G24 -> 13.7706 | I24: 275 от 07.12.2005г.
A25: =A24+1 -> 7 | B25: 00000620 | C25: Мира | D25: 3 | E25: 1978 | F25: =9.414*1.18 -> 11.10852 | G25: =3.95*1.18 -> 4.661 | H25: =F25+G25 -> 15.76952 | I25: 512-па от 10.09.2012
A26: =A25+1 -> 8 | B26: 00000608 | C26: Мира | D26: 10 | E26: 1972 | F26: =7.77*1.18 -> 9.1686 | G26: =3.9*1.18 -> 4.602 | H26: =F26+G26 -> 13.7706 | I26: 275 от 07.12.2005г.
A27: =A26+1 -> 9 | B27: 00000609 | C27: Мира | D27: 11 | E27: 1977 | F27: =7.77*1.18 -> 9.1686 | G27: =3.9*1.18 -> 4.602 | H27: =F27+G27 -> 13.7706 | I27: 275 от 07.12.2005г.
A28: =A27+1 -> 10 | B28: 00000610 | C28: Мира | D28: 12 | E28: 1972 | F28: =7.77*1.18 -> 9.1686 | G28: =3.9*1.18 -> 4.602 | H28: =F28+G28 -> 13.7706 | I28: 275 от 07.12.2005г.
A29: =A28+1 -> 11 | B29: 00000611 | C29: Мира | D29: 13 | E29: 1976 | F29: =7.77*1.18 -> 9.1686 | G29: =3.9*1.18 -> 4.602 | H29: =F29+G29 -> 13.7706 | I29: 275 от 07.12.2005г.
A30: =A29+1 -> 12 | B30: 00000562 | C30: Космонавтов | D30: 1 | E30: 1972 | F30: =7.77*1.18 -> 9.1686 | G30: =3.9*1.18 -> 4.602 | H30: =F30+G30 -> 13.7706 | I30: 275 от 07.12.2005г.
A31: =A30+1 -> 13 | B31: 00000563 | C31: Космонавтов | D31: 3 | E31: 1971 | F31: =7.77*1.18 -> 9.1686 | G31: =3.9*1.18 -> 4.602 | H31: =F31+G31 -> 13.7706 | I31: 275 от 07.12.2005г.
A32: =A31+1 -> 14 | B32: 00000564 | C32: Космонавтов | D32: 11 | E32: 1971 | F32: =7.77*1.18 -> 9.1686 | G32: =3.9*1.18 -> 4.602 | H32: =F32+G32 -> 13.7706 | I32: 275 от 07.12.2005г.
A33: =A32+1 -> 15 | B33: 00000623 | C33: Солнечная | D33: 11 | E33: 1977 | F33: =7.77*1.18 -> 9.1686 | G33: =3.9*1.18 -> 4.602 | H33: =F33+G33 -> 13.7706 | I33: 275 от 07.12.2005г.
A34: =A33+1 -> 16 | B34: 00000624 | C34: Солнечная | D34: 13 | E34: 1977 | F34: =7.77*1.18 -> 9.1686 | G34: =3.9*1.18 -> 4.602 | H34: =F34+G34 -> 13.7706 | I34: 275 от 07.12.2005г.
A35: =A34+1 -> 17 | B35: 00000625 | C35: Солнечная | D35: 14 | E35: 1984 | F35: =7.77*1.18 -> 9.1686 | G35: =3.9*1.18 -> 4.602 | H35: =F35+G35 -> 13.7706 | I35: 275 от 07.12.2005г.
A36: =A35+1 -> 18 | B36: 00000633 | C36: Солнечная | D36: 17 | E36: 1980 | F36: =7.77*1.18 -> 9.1686 | G36: =3.9*1.18 -> 4.602 | H36: =F36+G36 -> 13.7706 | I36: 275 от 07.12.2005г.
A37: =A36+1 -> 19 | B37: 00000553 | C37: Димитрова | D37: 2 | E37: 1974 | F37: =7.77*1.18 -> 9.1686 | G37: =3.9*1.18 -> 4.602 | H37: =F37+G37 -> 13.7706 | I37: 275 от 07.12.2005г.
... A43: =A42+1 -> 25 | B43: 00000559 | C43: Димитрова | D43: 11 | E43: 1972 | F43: =7.77*1.18 -> 9.1686 | G43: =3.9*1.18 -> 4.602 | H43: =F43+G43 -> 13.7706 | I43: 275 от 07.12.2005г.
A44: =A43+1 -> 26 | B44: 00000560 | C44: Димитрова | D44: 11 корп.1 | E44: 1973 | F44: =7.77*1.18 -> 9.1686 | G44: =3.9*1.18 -> 4.602 | H44: =F44+G44 -> 13.7706 | I44: 275 от 07.12.2005г.
A45: =A44+1 -> 27 | B45: 00000612 | C45: Димитрова | D45: 19 | E45: 1977 | F45: =7.77*1.18 -> 9.1686 | G45: =3.9*1.18 -> 4.602 | H45: =F45+G45 -> 13.7706 | I45: 275 от 07.12.2005г.
...

Sheet РЭУ №2
A1: ='РЭУ № 1'!A1:I1 -> Тарифы по содержанию и ремонту (с НДС) до 31.12.2013г.
A2: РЭУ №-2 с разбивкой по категориям
H3: руб./кв.м.
A4: № п/п | B4: инв.№ | C4: Улица | D4: № дома | E4: Содержание | F4: Ремонт | G4: Итого | H4: Постановление
A5: 1. Дома с лифтами и мусоропроводом.
A6: 2. Дома без лифтов с мусоропроводом.
A7: 3. Дома без лифтов и мусоропроводов.
A8: 3.1. Дома кирпичные до 1970 года постройки
A9: 1 | B9: 00000487 | C9: Мельникова | D9: 12 | E9: =7.77*1.18 -> 9.1686 | F9: =3.9*1.18 -> 4.602 | G9: =E9+F9 -> 13.7706 | H9: 275 от 07.12.2005г.
A10: =A9+1 -> 2 | B10: 00000488 | C10: Мельникова | D10: 12 корп.1 | E10: =7.77*1.18 -> 9.1686 | F10: =3.9*1.18 -> 4.602 | G10: =E10+F10 -> 13.7706 | H10: 275 от 07.12.2005г.
A11: =A10+1 -> 3 | B11: 00000493 | C11: Мельникова | D11: 18 | E11: =7.77*1.18 -> 9.1686 | F11: =3.9*1.18 -> 4.602 | G11: =E11+F11 -> 13.7706 | H11: 275 от 07.12.2005г.
A12: =A11+1 -> 4 | B12: 00000503 | C12: Ломоносова | D12: 2 | E12: =7.77*1.18 -> 9.1686 | F12: =3.9*1.18 -> 4.602 | G12: =E12+F12 -> 13.7706 | H12: 275 от 07.12.2005г.
A13: =A12+1 -> 5 | B13: 00000538 | C13: Ломоносова | D13: 3 | E13: =7.77*1.18 -> 9.1686 | F13: =3.9*1.18 -> 4.602 | G13: =E13+F13 -> 13.7706 | H13: 275 от 07.12.2005г.
A14: =A13+1 -> 6 | B14: 00000504 | C14: Ломоносова | D14: 4 | E14: =7.77*1.18 -> 9.1686 | F14: =3.9*1.18 -> 4.602 | G14: =E14+F14 -> 13.7706 | H14: 275 от 07.12.2005г.
A15: =A14+1 -> 7 | B15: 00000539 | C15: Ломоносова | D15: 5 | E15: =7.77*1.18 -> 9.1686 | F15: =3.9*1.18 -> 4.602 | G15: =E15+F15 -> 13.7706 | H15: 275 от 07.12.2005г.
A16: =A15+1 -> 8 | B16: 00000505 | C16: Ломоносова | D16: 6 | E16: =7.77*1.18 -> 9.1686 | F16: =3.9*1.18 -> 4.602 | G16: =E16+F16 -> 13.7706 | H16: 275 от 07.12.2005г.
A17: =A16+1 -> 9 | B17: 00000540 | C17: Ломоносова | D17: 7 | E17: =7.77*1.18 -> 9.1686 | F17: =3.9*1.18 -> 4.602 | G17: =E17+F17 -> 13.7706 | H17: 275 от 07.12.2005г.
A18: =A17+1 -> 10 | B18: 00000517 | C18: 3-ей Пятилетки | D18: 18 | E18: =7.77*1.18 -> 9.1686 | F18: =3.9*1.18 -> 4.602 | G18: =E18+F18 -> 13.7706 | H18: 275 от 07.12.2005г.
A19: =A18+1 -> 11 | B19: 00000521 | C19: 3-ей Пятилетки | D19: 22 | E19: =7.77*1.18 -> 9.1686 | F19: =3.9*1.18 -> 4.602 | G19: =E19+F19 -> 13.7706 | H19: 275 от 07.12.2005г.
A20: =A19+1 -> 12 | B20: 00000530 | C20: 50 лет Октября | D20: 37 | E20: =7.77*1.18 -> 9.1686 | F20: =3.9*1.18 -> 4.602 | G20: =E20+F20 -> 13.7706 | H20: 275 от 07.12.2005г.
A21: =A20+1 -> 13 | B21: 00000531 | C21: 50 лет Октября | D21: 38 | E21: =7.77*1.18 -> 9.1686 | F21: =3.9*1.18 -> 4.602 | G21: =E21+F21 -> 13.7706 | H21: 275 от 07.12.2005г.
A22: =A21+1 -> 14 | B22: 00000533 | C22: 50 лет Октября | D22: 40 | E22: =7.77*1.18 -> 9.1686 | F22: =3.9*1.18 -> 4.602 | G22: =E22+F22 -> 13.7706 | H22: 275 от 07.12.2005г.
A23: =A22+1 -> 15 | B23: 00000534 | C23: 50 лет Октября | D23: 40 корп.1 | E23: =7.77*1.18 -> 9.1686 | F23: =3.9*1.18 -> 4.602 | G23: =E23+F23 -> 13.7706 | H23: 275 от 07.12.2005г.
A24: =A23+1 -> 16 | B24: 00000535 | C24: 50 лет Октября | D24: 41 | E24: =7.77*1.18 -> 9.1686 | F24: =3.9*1.18 -> 4.602 | G24: =E24+F24 -> 13.7706 | H24: 275 от 07.12.2005г.
A25: =A24+1 -> 17 | B25: 00000537 | C25: 50 лет Октября | D25: 42 корп.1 | E25: =7.77*1.18 -> 9.1686 | F25: =3.9*1.18 -> 4.602 | G25: =E25+F25 -> 13.7706 | H25: 275 от 07.12.2005г.
A26: =A25+1 -> 18 | B26: 00000565 | C26: 50 лет Октября | D26: 45 | E26: =7.77*1.18 -> 9.1686 | F26: =3.9*1.18 -> 4.602 | G26: =E26+F26 -> 13.7706 | H26: 275 от 07.12.2005г.
A27: 3.2. Дома кирпичные с 1971 года постройки
A28: 1 | B28: 00000583 | C28: Первомайская | D28: 1 | E28: =7.77*1.18 -> 9.1686 | F28: =3.9*1.18 -> 4.602 | G28: =E28+F28 -> 13.7706 | H28: 275 от 07.12.2005г.
A29: =A28+1 -> 2 | B29: 00000585 | C29: Первомайская | D29: 3 | E29: =7.77*1.18 -> 9.1686 | F29: =3.9*1.18 -> 4.602 | G29: =E29+F29 -> 13.7706 | H29: 275 от 07.12.2005г.
A30: =A29+1 -> 3 | B30: 00000588 | C30: Первомайская | D30: 7 | E30: =7.77*1.18 -> 9.1686 | F30: =3.9*1.18 -> 4.602 | G30: =E30+F30 -> 13.7706 | H30: 275 от 07.12.2005г.
A31: 3.3. Дома панельные до 1970 года постройки
A32: 1 | B32: 00000590 | C32: Космонавтов | D32: 2 | E32: =7.77*1.18 -> 9.1686 | F32: =3.9*1.18 -> 4.602 | G32: =E32+F32 -> 13.7706 | H32: 275 от 07.12.2005г.
A33: =A32+1 -> 2 | B33: 00000591 | C33: Космонавтов | D33: 4 | E33: =7.77*1.18 -> 9.1686 | F33: =3.9*1.18 -> 4.602 | G33: =E33+F33 -> 13.7706 | H33: 275 от 07.12.2005г.
A34: =A33+1 -> 3 | B34: 00000592 | C34: Космонавтов | D34: 6 | E34: =9.414*1.18 -> 11.10852 | F34: =3.95*1.18 -> 4.661 | G34: =E34+F34 -> 15.76952 | H34: =H43 -> 512-па от 10.09.2012г.
A35: =A34+1 -> 4 | B35: 00000522 | C35: 3-ей Пятилетки | D35: 24 | E35: =7.77*1.18 -> 9.1686 | F35: =3.9*1.18 -> 4.602 | G35: =E35+F35 -> 13.7706 | H35: 275 от 07.12.2005г.
A36: =A35+1 -> 5 | B36: 00000578 | C36: 3-ей Пятилетки | D36: 28 | E36: =7.77*1.18 -> 9.1686 | F36: =3.9*1.18 -> 4.602 | G36: =E36+F36 -> 13.7706 | H36: 275 от 07.12.2005г.
A37: =A36+1 -> 6 | B37: 00000579 | C37: 3-ей Пятилетки | D37: 30 | E37: =7.77*1.18 -> 9.1686 | F37: =3.9*1.18 -> 4.602 | G37: =E37+F37 -> 13.7706 | H37: 275 от 07.12.2005г.
A38: =A37+1 -> 7 | B38: 00000551 | C38: Ворошилова | D38: 31 корп.1 | E38: =7.77*1.18 -> 9.1686 | F38: =3.9*1.18 -> 4.602 | G38: =E38+F38 -> 13.7706 | H38: 275 от 07.12.2005г.
A39: =A38+1 -> 8 | B39: 00000552 | C39: Ворошилова | D39: 37 корп.1 | E39: =7.77*1.18 -> 9.1686 | F39: =3.9*1.18 -> 4.602 | G39: =E39+F39 -> 13.7706 | H39: 275 от 07.12.2005г.
A40: 3.4. Дома панельные с 1971 года постройки
...

Sheet РЭУ №3
A1: ='РЭУ № 1'!A1:I1 -> Тарифы по содержанию и ремонту (с НДС) до 31.12.2013г.
A2: РЭУ №-3 с разбивкой по категориям
I3: руб./кв.м.
A4: № п/п | B4: инв.№ | C4: Улица | D4: № дома | E4: Год постройки | F4: Содержание | G4: Ремонт | H4: Итого | I4: ='[1]2 рэу'!N2 -> Постановление
A5: 1. Дома с лифтами и мусоропроводом.
A6: 1 | B6: 00000466 | C6: Берденникова/Южная | D6: 12.17 | E6: 1992 | F6: 10,38/16,81 | G6: =3.9*1.18 -> 4.602 | H6: 14,98/21,41 | I6: 275 от 07.12.2005г.
A7: 2 | C7: Южная (обслуж) | D7: 19 корп.1 | F7: 12,38/16,74 | H7: =F7 -> 12,38/16,74 | I7: договор содержания услуг по С и Р от 01.03.2012г.
A8: =A7+1 -> 3 | B8: 00000473 | C8: Двинская | D8: 41 | E8: 1991 | F8: 10,38/16,81 | G8: =3.9*1.18 -> 4.602 | H8: 14,98/21,41 | I8: 275 от 07.12.2005г.
A9: =A8+1 -> 4 | B9: 00000474 | C9: Двинская | D9: 41 корп.1 | E9: 1991 | F9: 10,38/16,81 | G9: =3.9*1.18 -> 4.602 | H9: 14,98/21,41 | I9: 275 от 07.12.2005г.
A10: =A9+1 -> 5 | B10: 00000475 | C10: Двинская | D10: 45 корп.1 | E10: 1992 | F10: 10,38/16,81 | G10: =3.9*1.18 -> 4.602 | H10: 14,98/21,41 | I10: 275 от 07.12.2005г.
A11: 2. Дома без лифтов с мусоропроводом.
A12: 1 | B12: 003901 | C12: Южная | D12: 17 корп.1 | E12: 1993 | F12: =8.8*1.18 -> 10.384 | G12: =3.9*1.18 -> 4.602 | H12: =F12+G12-0.01 -> 14.976 | I12: 275 от 07.12.2005г.
A13: 3. Дома без лифтов и мусоропроводов.
A14: 3.1. Дома кирпичные до 1970 года постройки
A15: 3.2. Дома кирпичные с 1971 года постройки
A16: 1 | B16: 00000450 | C16: Пролетарская | D16: 47 корп. 1 | E16: 1972 | F16: =7.77*1.18 -> 9.1686 | G16: =3.9*1.18 -> 4.602 | H16: =F16+G16 -> 13.7706 | I16: 275 от 07.12.2005г.
A17: =A16+1 -> 2 | B17: 00000388 | C17: Пролетарская | D17: 49 | E17: 1971/2001 | F17: =7.77*1.18 -> 9.1686 | G17: =3.9*1.18 -> 4.602 | H17: =F17+G17 -> 13.7706 | I17: 275 от 07.12.2005г.
A18: =A17+1 -> 3 | B18: 00000468 | C18: Советов | D18: 28 | E18: 1990 | F18: =7.77*1.18 -> 9.1686 | G18: =3.9*1.18 -> 4.602 | H18: =F18+G18 -> 13.7706 | I18: 275 от 07.12.2005г.
A19: 3.3. Дома панельные до 1970 года постройки
A20: 1 | B20: 00000445 | C20: Двинская | D20: 42 корп.1 | E20: 1970 | F20: =7.77*1.18 -> 9.1686 | G20: =3.9*1.18 -> 4.602 | H20: =F20+G20 -> 13.7706 | I20: 275 от 07.12.2005г.
A21: =A20+1 -> 2 | B21: 00000447 | C21: Двинская | D21: 44 корп.1 | E21: 1970 | F21: =7.77*1.18 -> 9.1686 | G21: =3.9*1.18 -> 4.602 | H21: =F21+G21 -> 13.7706 | I21: 275 от 07.12.2005г.
A22: =A21+1 -> 3 | B22: 00000448 | C22: Двинская | D22: 46 | E22: 1970 | F22: =7.77*1.18 -> 9.1686 | G22: =3.9*1.18 -> 4.602 | H22: =F22+G22 -> 13.7706 | I22: 275 от 07.12.2005г.
A23: =A22+1 -> 4 | B23: 00000451 | C23: Пролетарская | D23: 48 | E23: 1969 | F23: =7.77*1.18 -> 9.1686 | G23: =3.9*1.18 -> 4.602 | H23: =F23+G23 -> 13.7706 | I23: 275 от 07.12.2005г.
A24: =A23+1 -> 5 | B24: 00000452 | C24: Берденникова/ Уборевича | D24: 4/32 | E24: 1968 | F24: =7.77*1.18 -> 9.1686 | G24: =3.9*1.18 -> 4.602 | H24: =F24+G24 -> 13.7706 | I24: 275 от 07.12.2005г.
A25: =A24+1 -> 6 | B25: 00000453 | C25: Уборевича | D25: 34 | E25: 1969 | F25: =7.77*1.18 -> 9.1686 | G25: =3.9*1.18 -> 4.602 | H25: =F25+G25 -> 13.7706 | I25: 275 от 07.12.2005г.
A26: =A25+1 -> 7 | B26: 00000454 | C26: Уборевича | D26: 36 | E26: 1969 | F26: =7.77*1.18 -> 9.1686 | G26: =3.9*1.18 -> 4.602 | H26: =F26+G26 -> 13.7706 | I26: 275 от 07.12.2005г.
A27: =A26+1 -> 8 | B27: 00000518 | C27: Уборевича | D27: 38 | E27: 1968 | F27: =7.77*1.18 -> 9.1686 | G27: =3.9*1.18 -> 4.602 | H27: =F27+G27 -> 13.7706 | I27: 275 от 07.12.2005г.
A28: =A27+1 -> 9 | B28: 00000455 | C28: Уборевича | D28: 40 | E28: 1969 | F28: =7.77*1.18 -> 9.1686 | G28: =3.9*1.18 -> 4.602 | H28: =F28+G28 -> 13.7706 | I28: 275 от 07.12.2005г.
A29: =A28+1 -> 10 | B29: 00000456 | C29: Уборевича | D29: 42 | E29: 1969 | F29: =7.77*1.18 -> 9.1686 | G29: =3.9*1.18 -> 4.602 | H29: =F29+G29 -> 13.7706 | I29: 275 от 07.12.2005г.
A30: =A29+1 -> 11 | B30: 00000457 | C30: Уборевича | D30: 45 | E30: 1969 | F30: =7.77*1.18 -> 9.1686 | G30: =3.9*1.18 -> 4.602 | H30: =F30+G30 -> 13.7706 | I30: 275 от 07.12.2005г.
A31: =A30+1 -> 12 | B31: 00000458 | C31: Уборевича | D31: 47 | E31: 1969 | F31: =7.77*1.18 -> 9.1686 | G31: =3.9*1.18 -> 4.602 | H31: =F31+G31 -> 13.7706 | I31: 275 от 07.12.2005г.
A32: =A31+1 -> 13 | B32: 00000519 | C32: Советов | D32: 27 | E32: 1968 | F32: =7.77*1.18 -> 9.1686 | G32: =3.9*1.18 -> 4.602 | H32: =F32+G32 -> 13.7706 | I32: 275 от 07.12.2005г.
A33: =A32+1 -> 14 | B33: 00000520 | C33: Советов | D33: 31 | E33: 1968 | F33: =7.77*1.18 -> 9.1686 | G33: =3.9*1.18 -> 4.602 | H33: =F33+G33 -> 13.7706 | I33: 275 от 07.12.2005г.
A34: =A33+1 -> 15 | B34: 00000461 | C34: Пролетарская | D34: 50 | E34: 1970 | F34: =7.77*1.18 -> 9.1686 | G34: =3.9*1.18 -> 4.602 | H34: =F34+G34 -> 13.7706 | I34: 275 от 07.12.2005г.
A35: =A34+1 -> 16 | B35: 00000462 | C35: Пролетарская | D35: 52 | E35: 1969 | F35: =7.77*1.18 -> 9.1686 | G35: =3.9*1.18 -> 4.602 | H35: =F35+G35 -> 13.7706 | I35: 275 от 07.12.2005г.
A36: 3.4. Дома панельные с 1971 года постройки
A37: 1 | B37: 00000463 | C37: Южная | D37: 9 | E37: 1989 | F37: =7.77*1.18 -> 9.1686 | G37: =3.9*1.18 -> 4.602 | H37: =F37+G37 -> 13.7706 | I37: 275 от 07.12.2005г.
A38: =A37+1 -> 2 | B38: 00000464 | C38: Южная | D38: 9 корп.2 | E38: 1989 | F38: =7.77*1.18 -> 9.1686 | G38: =3.9*1.18 -> 4.602 | H38: =F38+G38 -> 13.7706 | I38: 275 от 07.12.2005г.
A39: =A38+1 -> 3 | B39: 00000465 | C39: Южная | D39: 11 | E39: 1991 | F39: =7.77*1.18 -> 9.1686 | G39: =3.9*1.18 -> 4.602 | H39: =F39+G39 -> 13.7706 | I39: 275 от 07.12.2005г.
A40: =A39+1 -> 4 | C40: Советов | D40: 30 | E40: 1993-1994 | F40: =7.77*1.18 -> 9.1686 | G40: =3.9*1.18 -> 4.602 | H40: =F40+G40 -> 13.7706 | I40: 275 от 07.12.2005г.
...

Sheet РЭУ №4
A1: ='РЭУ № 1'!A1:I1 -> Тарифы по содержанию и ремонту (с НДС) до 31.12.2013г.
A2: РЭУ №-4 с разбивкой по категориям
I3: руб./кв.м.
A4: № п/п | B4: инв.№ | C4: Улица | D4: № дома | E4: Год постройки | F4: Содержание | G4: Ремонт | H4: Итого | I4: Постановление
A5: 1. Дома с лифтами и мусоропроводом.
A6: 2. Дома без лифтов с мусоропроводом.
A7: 3. Дома без лифтов и мусоропроводов.
A8: 3.1. Дома кирпичные до 1970 года постройки
A9: 1 | B9: 00000542 | C9: Ломоносова | D9: 12 | E9: 1959 | F9: =9.414*1.18 -> 11.10852 | G9: =3.95*1.18 -> 4.661 | H9: =F9+G9 -> 15.76952 | I9: 512-па от 10.09.12
A10: =A9+1 -> 2 | B10: 00000380 | C10: 50 лет Октября | D10: 7 корп.1 | E10: 1970 | F10: =7.77*1.18 -> 9.1686 | G10: =3.9*1.18 -> 4.602 | H10: =F10+G10 -> 13.7706 | I10: 275 от 07.12.2005
A11: =A10+1 -> 3 | C11: 50 лет Октября | D11: 26 | E11: 1957 | F11: =7.77*1.18 -> 9.1686 | G11: =3.9*1.18 -> 4.602 | H11: =F11+G11 -> 13.7706 | I11: 275 от 07.12.2005
A12: =A11+1 -> 4 | B12: 00000524 | C12: 50 лет Октября | D12: 28 | E12: 1957 | F12: =7.77*1.18 -> 9.1686 | G12: =3.9*1.18 -> 4.602 | H12: =F12+G12 -> 13.7706 | I12: 275 от 07.12.2005
A13: =A12+1 -> 5 | B13: 00000525 | C13: 50 лет Октября | D13: 30 | E13: 1958 | F13: =7.77*1.18 -> 9.1686 | G13: =3.9*1.18 -> 4.602 | H13: =F13+G13 -> 13.7706 | I13: 275 от 07.12.2005
A14: =A13+1 -> 6 | B14: 00000526 | C14: 50 лет Октября | D14: 32 | E14: 1958 | F14: =7.77*1.18 -> 9.1686 | G14: =3.9*1.18 -> 4.602 | H14: =F14+G14 -> 13.7706 | I14: 275 от 07.12.2005
A15: 7 | C15: 50 лет Октября | D15: 34 | E15: 1959 | F15: =7.77*1.18 -> 9.1686 | G15: =3.9*1.18 -> 4.602 | H15: =F15+G15 -> 13.7706 | I15: 275 от 07.12.2005
A16: 3.2. Дома кирпичные с 1971 года постройки
A17: 1 | B17: 00000496 | C17: Мельникова | D17: 21 корп.1 | E17: 1989 | F17: =7.77*1.18 -> 9.1686 | G17: =3.9*1.18 -> 4.602 | H17: =F17+G17 -> 13.7706 | I17: 275 от 07.12.2005
A18: =A17+1 -> 2 | C18: Мельникова | D18: 25 | E18: 2008 | F18: =9.414*1.18 -> 11.10852 | G18: =3.95*1.18 -> 4.661 | H18: =F18+G18 -> 15.76952 | I18: 512-па от 10.09.12
A19: 3 | B19: 0002754 | C19: 50 лет Октября | D19: 18 корп.1 | E19: 1992 | F19: =7.77*1.18 -> 9.1686 | G19: =3.9*1.18 -> 4.602 | H19: =F19+G19 -> 13.7706 | I19: 275 от 07.12.2005
A20: 3.3. Дома панельные до 1970 года постройки
A21: 1 | B21: 00000394 | C21: 50 лет Октября | D21: 11 корп.1 | E21: 1970 | F21: =7.77*1.18 -> 9.1686 | G21: =3.9*1.18 -> 4.602 | H21: =F21+G21 -> 13.7706 | I21: 275 от 07.12.2005
A22: =A21+1 -> 2 | B22: 00000543 | C22: Ломоносова | D22: 14 | E22: 1964 | F22: =9.414*1.18 -> 11.10852 | G22: =3.95*1.18 -> 4.661 | H22: =F22+G22 -> 15.76952 | I22: 512-па от 10.09.12
A23: =A22+1 -> 3 | B23: 00000351 | C23: Уборевича | D23: 2 | E23: 1967 | F23: =7.77*1.18 -> 9.1686 | G23: =3.9*1.18 -> 4.602 | H23: =F23+G23 -> 13.7706 | I23: 275 от 07.12.2005
A24: =A23+1 -> 4 | B24: 00000352 | C24: Уборевича | D24: 2 корп.1 | E24: 1967 | F24: =7.77*1.18 -> 9.1686 | G24: =3.9*1.18 -> 4.602 | H24: =F24+G24 -> 13.7706 | I24: 275 от 07.12.2005
A25: =A24+1 -> 5 | B25: 00000353 | C25: Уборевича | D25: 4 | E25: 1967 | F25: =7.77*1.18 -> 9.1686 | G25: =3.9*1.18 -> 4.602 | H25: =F25+G25 -> 13.7706 | I25: 275 от 07.12.2005
A26: =A25+1 -> 6 | B26: 00000354 | C26: Уборевича | D26: 6 | E26: 1967 | F26: =7.77*1.18 -> 9.1686 | G26: =3.9*1.18 -> 4.602 | H26: =F26+G26 -> 13.7706 | I26: 275 от 07.12.2005
A27: =A26+1 -> 7 | B27: 00000355 | C27: Уборевича | D27: 14 | E27: 1966 | F27: =7.77*1.18 -> 9.1686 | G27: =3.9*1.18 -> 4.602 | H27: =F27+G27 -> 13.7706 | I27: 275 от 07.12.2005
A28: =A27+1 -> 8 | B28: 00000356 | C28: Уборевича | D28: 20 | E28: 1965 | F28: =7.77*1.18 -> 9.1686 | G28: =3.9*1.18 -> 4.602 | H28: =F28+G28 -> 13.7706 | I28: 275 от 07.12.2005
A29: =A28+1 -> 9 | B29: 00000357 | C29: Уборевича | D29: 20 корп.1 | E29: 1965 | F29: =7.77*1.18 -> 9.1686 | G29: =3.9*1.18 -> 4.602 | H29: =F29+G29 -> 13.7706 | I29: 275 от 07.12.2005
A30: =A29+1 -> 10 | B30: 00000390 | C30: Уборевича | D30: 22 | E30: 1965 | F30: =7.77*1.18 -> 9.1686 | G30: =3.9*1.18 -> 4.602 | H30: =F30+G30 -> 13.7706 | I30: 275 от 07.12.2005
A31: =A30+1 -> 11 | B31: 00000402 | C31: Уборевича | D31: 26 | E31: 1965 | F31: =7.77*1.18 -> 9.1686 | G31: =3.9*1.18 -> 4.602 | H31: =F31+G31 -> 13.7706 | I31: 275 от 07.12.2005
A32: =A31+1 -> 12 | B32: 00000403 | C32: Уборевича | D32: 28 | E32: 1965 | F32: =7.77*1.18 -> 9.1686 | G32: =3.9*1.18 -> 4.602 | H32: =F32+G32 -> 13.7706 | I32: 275 от 07.12.2005
A33: =A32+1 -> 13 | B33: 00000404 | C33: Берденникова/Уборевича | D33: 3 /30 | E33: 1965 | F33: =7.77*1.18 -> 9.1686 | G33: =3.9*1.18 -> 4.602 | H33: =F33+G33 -> 13.7706 | I33: 275 от 07.12.2005
A34: =A33+1 -> 14 | B34: 00000405 | C34: Уборевича | D34: 30 корп.1 | E34: 1965 | F34: =7.77*1.18 -> 9.1686 | G34: =3.9*1.18 -> 4.602 | H34: =F34+G34 -> 13.7706 | I34: 275 от 07.12.2005
A35: =A34+1 -> 15 | B35: 00000406 | C35: Добровольского | D35: 4 корп.1 | E35: 1967 | F35: =7.77*1.18 -> 9.1686 | G35: =3.9*1.18 -> 4.602 | H35: =F35+G35 -> 13.7706 | I35: 275 от 07.12.2005
A36: =A35+1 -> 16 | B36: 00000408 | C36: Добровольского | D36: 6 корп.1 | E36: 1966 | F36: =7.77*1.18 -> 9.1686 | G36: =3.9*1.18 -> 4.602 | H36: =F36+G36 -> 13.7706 | I36: 275 от 07.12.2005
A37: =A36+1 -> 17 | B37: 00000423 | C37: Ударников | D37: 12 | E37: 1970 | F37: =7.77*1.18 -> 9.1686 | G37: =3.9*1.18 -> 4.602 | H37: =F37+G37 -> 13.7706 | I37: 275 от 07.12.2005
A38: =A37+1 -> 18 | B38: 00000424 | C38: Ударников | D38: 13 | E38: 1970 | F38: =7.77*1.18 -> 9.1686 | G38: =3.9*1.18 -> 4.602 | H38: =F38+G38 -> 13.7706 | I38: 275 от 07.12.2005
A39: =A38+1 -> 19 | B39: 00000548 | C39: Ворошилова | D39: 25 корп.1 | E39: 1964 | F39: =7.77*1.18 -> 9.1686 | G39: =3.9*1.18 -> 4.602 | H39: =F39+G39 -> 13.7706 | I39: 275 от 07.12.2005
A40: =A39+1 -> 20 | B40: 00000549 | C40: Ворошилова | D40: 27 корп.1 | E40: 1964 | F40: =7.77*1.18 -> 9.1686 | G40: =3.9*1.18 -> 4.602 | H40: =F40+G40 -> 13.7706 | I40: 275 от 07.12.2005
...

Sheet  ДЖФ
A1: ='РЭУ № 1'!A1:I1 -> Тарифы по содержанию и ремонту (с НДС) до 31.12.2013г.
A2: Участок по обслуживанию деревянных домов с разбивкой по категориям
I3: руб./кв.м.
A4: № п/п | B4: инв.№ | C4: Улица | D4: № дома | E4: Год постройки | F4: Содержание | G4: Ремонт | H4: Итого | I4: Постановление
A5: 1. Дома с лифтами и мусоропроводом.
A6: 2. Дома без лифтов с мусоропроводом.
A7: 3. Дома без лифтов и мусоропроводов.
A8: 3.1. Дома кирпичные до 1970 года постройки
A9: 3.2. Дома кирпичные с 1971 года постройки
A10: 1 | C10: Ленина | D10: 1 | E10: 2008 | F10: =8.76*1.18-0.01 -> 10.3268 | G10: =4.38*1.18 -> 5.1684 | H10: =F10+G10 -> 15.4952
A11: 3.3. Дома панельные до 1970 года постройки
A12: 3.4. Дома панельные с 1971 года постройки
A13: 3.5. Дома шлакоблочные
A14: 3.6. Дома из легких металлических конструкций
A15: 4. Дома деревянные
A16: 4.1. Дома до 1950 года постройки
A17: 1 | C17: 50 лет Октября | D17: 1 | E17: 1989 | F17: =8.14*1.18 -> 9.6052 | G17: =4.74*1.18 -> 5.5932 | H17: =F17+G17 -> 15.1984 | I17: по конкурсу
A18: 2 | C18: 50 лет Октября | D18: 2 | E18: 1987 | F18: =8.14*1.18 -> 9.6052 | G18: =4.74*1.18 -> 5.5932 | H18: =F18+G18 -> 15.1984 | I18: по конкурсу
A19: 3 | C19: 50 лет Октября | D19: 4 | E19: 1991 | F19: =8.14*1.18 -> 9.6052 | G19: =4.74*1.18 -> 5.5932 | H19: =F19+G19 -> 15.1984 | I19: по конкурсу
A20: 4 | C20: 50 лет Октября | D20: 5 | E20: 1937-2001 | F20: =8.14*1.18 -> 9.6052 | G20: =4.74*1.18 -> 5.5932 | H20: =F20+G20 -> 15.1984 | I20: по конкурсу
A21: 5 | C21: 50 лет Октября | D21: 9 | E21: 1937 | F21: =8.14*1.18 -> 9.6052 | G21: =4.74*1.18 -> 5.5932 | H21: =F21+G21 -> 15.1984 | I21: по конкурсу
A22: 6 | C22: 50 лет Октября | D22: 10 | E22: 1993/36 | F22: =8.14*1.18 -> 9.6052 | G22: =4.74*1.18 -> 5.5932 | H22: =F22+G22 -> 15.1984 | I22: по конкурсу
A23: 7 | C23: Ударников | D23: 11 | E23: 1936 | F23: =8.14*1.18 -> 9.6052 | G23: =4.74*1.18 -> 5.5932 | H23: =F23+G23 -> 15.1984 | I23: по конкурсу
A24: 8 | C24: Ворошилова | D24: 21 | E24: 1980 | F24: =8.14*1.18 -> 9.6052 | G24: =4.74*1.18 -> 5.5932 | H24: =F24+G24 -> 15.1984 | I24: по конкурсу
A25: 9 | C25: Ворошилова | D25: 23 | E25: 1940 | F25: =8.14*1.18 -> 9.6052 | G25: =4.74*1.18 -> 5.5932 | H25: =F25+G25 -> 15.1984 | I25: по конкурсу
A26: 10 | C26: Добровольского | D26: 16 | E26: 1974/36 | F26: =8.14*1.18 -> 9.6052 | G26: =4.74*1.18 -> 5.5932 | H26: =F26+G26 -> 15.1984 | I26: по конкурсу
A27: 11 | C27: Пионерская | D27: 3 | E27: 1978 | F27: =8.14*1.18 -> 9.6052 | G27: =4.74*1.18 -> 5.5932 | H27: =F27+G27 -> 15.1984 | I27: по конкурсу
A28: 12 | C28: Пионерская | D28: 18 | E28: 1976 | F28: =8.14*1.18 -> 9.6052 | G28: =4.74*1.18 -> 5.5932 | H28: =F28+G28 -> 15.1984 | I28: по конкурсу
A29: 13 | C29: Пионерская | D29: 23 | E29: 1936 | F29: =8.14*1.18 -> 9.6052 | G29: =4.74*1.18 -> 5.5932 | H29: =F29+G29 -> 15.1984 | I29: по конкурсу
A30: 14 | C30: Пионерская | D30: 25 | E30: 1936 | F30: =8.14*1.18 -> 9.6052 | G30: =4.74*1.18 -> 5.5932 | H30: =F30+G30 -> 15.1984 | I30: по конкурсу
B31: Итого | D31: =A30 -> 14
A32: 4.2. Дома после 1950 года постройки
A33: 1 | C33: Ворошилова | D33: 25 | E33: 1984 | F33: =8.14*1.18 -> 9.6052 | G33: =4.74*1.18 -> 5.5932 | H33: =F33+G33 -> 15.1984 | I33: по конкурсу
A34: 5. Дома непригодные для постоянного проживания
A35: 1 | C35: 3-ей Пятилетки | D35: 3 корп.1 | E35: 1952 | F35: =8.14*1.18 -> 9.6052 | G35: =4.74*1.18 -> 5.5932 | H35: =F35+G35 -> 15.1984 | I35: по конкурсу
A36: 2 | C36: 3-ей Пятилетки | D36: 4 корп.1 | E36: 1952 | F36: =8.14*1.18-0.01 -> 9.5952 | G36: 0 | H36: =F36+G36 -> 9.5952 | I36: по конкурсу
A37: 3 | C37: 3-ей Пятилетки | D37: 5 | E37: 1941 | F37: =8.14*1.18-0.01 -> 9.5952 | G37: 0 | H37: =F37+G37 -> 9.5952 | I37: по конкурсу
A38: 4 | C38: 3-ей Пятилетки | D38: 7 | E38: 1951 | F38: =8.14*1.18 -> 9.6052 | G38: =4.74*1.18 -> 5.5932 | H38: =F38+G38 -> 15.1984 | I38: по конкурсу
A39: 5 | C39: 3-ей Пятилетки | D39: 8 | E39: 1941 | F39: =8.14*1.18 -> 9.6052 | G39: =4.74*1.18 -> 5.5932 | H39: =F39+G39 -> 15.1984 | I39: по конкурсу
A40: 6 | C40: 3-ей Пятилетки | D40: 10 | E40: 1943 | F40: =8.14*1.18 -> 9.6052 | G40: =4.74*1.18 -> 5.5932 | H40: =F40+G40 -> 15.1984 | I40: по конкурсу
...

Sheet общежития
A1: ='РЭУ № 1'!A1:I1 -> Тарифы по содержанию и ремонту (с НДС) до 31.12.2013г.
A2: Маневренный фонд и Уборевича, 10
I3: руб./кв.м. жилой площади
A4: № п/п | B4: инв.№ | C4: Улица | D4: № дома | E4: Год постройки | F4: Содержание | G4: Ремонт | H4: Итого | I4: Постановление
A5: 1 | C5: Уборевича | D5: 12 | E5: 1967 | F5: 81.66 | G5: 7.36 | H5: =F5+G5 -> 89.02 | I5: 386-па от 19.04.2013г.
A6: 2 | B6: 00000544 | C6: Ворошилова | D6: 20 | E6: 1965 | F6: 79.943206 | G6: 5.76 | H6: =F6+G6 -> 85.703206 | I6: 386-па от 19.04.2013г.
A7: 3 | B7: 00000545 | C7: Ворошилова | D7: 22 | E7: 1964 | F7: 77.47 | G7: 6.5 | H7: =F7+G7 -> 83.97 | I7: 386-па от 19.04.2013г.
A8: 4 | C8: Уборевича | D8: 10 | F8: =71.98-G8 -> 65.8 | G8: 6.18 | H8: =F8+G8 -> 71.98 | I8: 711-па от 15.11.2012г.
A9: Всего домов | D9: 4
A11: ='РЭУ № 1'!A65 -> Исп. Ушакова Н. В.
